BEGIN:VCALENDAR
VERSION:2.0
PRODID:-//Magnuson Dog Park - ECPv6.5.0.1//NONSGML v1.0//EN
CALSCALE:GREGORIAN
METHOD:PUBLISH
X-WR-CALNAME:Magnuson Dog Park
X-ORIGINAL-URL:https://magnusondogpark.org
X-WR-CALDESC:Events for Magnuson Dog Park
REFRESH-INTERVAL;VALUE=DURATION:PT1H
X-Robots-Tag:noindex
X-PUBLISHED-TTL:PT1H
BEGIN:VTIMEZONE
TZID:UTC
BEGIN:STANDARD
TZOFFSETFROM:+0000
TZOFFSETTO:+0000
TZNAME:UTC
DTSTART:20230101T000000
END:STANDARD
END:VTIMEZONE
BEGIN:VEVENT
DTSTART;TZID=UTC:20240711T080000
DTEND;TZID=UTC:20240711T170000
DTSTAMP:20260424T064402
CREATED:20240710T013956Z
LAST-MODIFIED:20240710T014009Z
UID:4934-1720684800-1720717200@magnusondogpark.org
SUMMARY:TEST ABC
DESCRIPTION:About the event Join Us in Keeping Magnuson Dog Park Safe and Clean! Date: 7-13-2024 Time: 9am – 1pm Location: Magnuson Dog Park\, Seattle\, Washington About the Event: Magnuson Dog Park\, nestled in the heart of Seattle\, provides a vital space for our furry friends to play\, socialize\, and enjoy the outdoors. However\, to maintain its charm and functionality\, we rely on the support of volunteers like you. Join us for a day of giving back to the community and ensuring Magnuson Dog Park remain\n\n\n\n\n\n\n\n\n\n\n\nsend \nSend message\n\n\n\nChecking who can access file
URL:https://magnusondogpark.org/event/test-abc/
LOCATION:Magnuson Dog park\, 7400 Sand Point Way NE\, Seattle\, WA\, 98115\, United States
ORGANIZER;CN="Jin Zhang":MAILTO:JINZHANG455@GMAIL.COM
END:VEVENT
BEGIN:VEVENT
DTSTART;TZID=UTC:20231225T100000
DTEND;TZID=UTC:20231225T130000
DTSTAMP:20260424T064402
CREATED:20231212T165008Z
LAST-MODIFIED:20231212T165405Z
UID:4848-1703498400-1703509200@magnusondogpark.org
SUMMARY:RSVP!
DESCRIPTION:We’re thrilled that you’re interested in joining us for the Magnuson Dog Park Work Party! Your participation will help make our beloved dog park a safer and more beautiful place for our furry friends.
URL:https://magnusondogpark.org/event/rsvp/
LOCATION:Magnuson Dog park\, 7400 Sand Point Way NE\, Seattle\, WA\, 98115\, United States
CATEGORIES:Work Party
ATTACH;FMTTYPE=image/jpeg:https://magnusondogpark.org/wp-content/uploads/2023/11/DSCF9130-scaled.jpg
ORGANIZER;CN="Jin Zhang":MAILTO:JINZHANG455@GMAIL.COM
END:VEVENT
END:VCALENDAR